BEGIN:VCALENDAR
VERSION:2.0
PRODID:SchoolNow
CALSCALE:GREGORIAN
BEGIN:VEVENT
UID:25eb5f88-a09a-11e8-91d9-12b3bbeffdca
DTSTAMP:20180815T144735Z
SUMMARY:185th Day (to be used only in the event of snow days during the sch
 ool year)
URL;VALUE=URI:https://www.norwood.k12.ma.us/cleveland/calendar/1832890/kind
 ergarten-pre-school-begin-clone-clone-clone-clone-clone-clone-clone-clone-
 clone
DTSTART:20190626T040000Z
DTEND:20190626T130000Z
END:VEVENT
END:VCALENDAR
