BEGIN:VCALENDAR
VERSION:2.0
PRODID:SchoolNow
CALSCALE:GREGORIAN
BEGIN:VEVENT
UID:9861c3da-e35d-11e8-8460-1219ac851e38
DTSTAMP:20181217T131539Z
SUMMARY:Norwood SEPAC Meeting
LOCATION:Savage Educational Center\, Room 219
URL;VALUE=URI:https://www.norwood.k12.ma.us/cleveland/calendar/1903746/norw
 ood-sepac-meeting
DTSTART:20190110T233000Z
DTEND:20190111T013000Z
END:VEVENT
END:VCALENDAR
