BEGIN:VCALENDAR
VERSION:2.0
PRODID:SchoolNow
CALSCALE:GREGORIAN
BEGIN:VEVENT
UID:8e28f9aa-e35e-11e8-9031-1292edf11e7e
DTSTAMP:20190502T174845Z
SUMMARY:Norwood SEPAC Meeting
LOCATION:Savage Educational Center
URL;VALUE=URI:https://www.norwood.k12.ma.us/cleveland/calendar/1903782/norw
 ood-sepac-meeting
DTSTART:20190509T223000Z
DTEND:20190510T003000Z
END:VEVENT
END:VCALENDAR
