BEGIN:VCALENDAR
VERSION:2.0
PRODID:SchoolNow
CALSCALE:GREGORIAN
BEGIN:VEVENT
UID:3c7ec1d2-2e01-11e9-80b7-12c55c0da086
DTSTAMP:20190211T133045Z
SUMMARY:Norwood SEPAC Meeting
LOCATION:Savage Educational Center
URL;VALUE=URI:https://www.norwood.k12.ma.us/cleveland/calendar/1942986/norw
 ood-sepac-meeting
DTSTART:20190226T233000Z
DTEND:20190227T013000Z
END:VEVENT
END:VCALENDAR
