BEGIN:VCALENDAR
VERSION:2.0
PRODID:SchoolNow
CALSCALE:GREGORIAN
BEGIN:VEVENT
UID:cf4db90a-2ff0-11e9-a18f-0a79da417e1c
DTSTAMP:20190214T003812Z
SUMMARY:Cleveland School Talent Show!
URL;VALUE=URI:https://www.norwood.k12.ma.us/cleveland/calendar/1944606/clev
 eland-school-talent-show
DTSTART:20190214T233000Z
DTEND:20190215T010000Z
END:VEVENT
END:VCALENDAR
