BEGIN:VCALENDAR
VERSION:2.0
PRODID:SchoolNow
CALSCALE:GREGORIAN
BEGIN:VEVENT
UID:38e93ebe-2ff3-11e9-94ef-0ae2fcaa8f88
DTSTAMP:20190221T071915Z
SUMMARY:PTA Meeting
LOCATION:Cleveland Cafeteria
URL;VALUE=URI:https://www.norwood.k12.ma.us/cleveland/calendar/1944607/pta-
 meeting
DTSTART:20190227T000000Z
DTEND:20190227T011500Z
END:VEVENT
END:VCALENDAR
