BEGIN:VCALENDAR
VERSION:2.0
PRODID:SchoolNow
CALSCALE:GREGORIAN
BEGIN:VEVENT
UID:888c9e7e-2ff4-11e9-a55f-125810119e18
DTSTAMP:20190214T010452Z
SUMMARY:Second Grade Character Day
URL;VALUE=URI:https://www.norwood.k12.ma.us/cleveland/calendar/1944609/seco
 nd-grade-character-day
DTSTART:20190313T131500Z
DTEND:20190313T141500Z
END:VEVENT
END:VCALENDAR
