BEGIN:VCALENDAR
VERSION:2.0
PRODID:SchoolNow
CALSCALE:GREGORIAN
BEGIN:VEVENT
UID:cbf6d87c-2ff5-11e9-973b-0a60ad58c6be
DTSTAMP:20190214T015402Z
SUMMARY:Grade 4 ELA MCAS
URL;VALUE=URI:https://www.norwood.k12.ma.us/cleveland/calendar/1944618/grad
 e-4-ela-mcas
DTSTART:20190403T130000Z
DTEND:20190403T185000Z
END:VEVENT
END:VCALENDAR
