BEGIN:VCALENDAR
VERSION:2.0
PRODID:SchoolNow
CALSCALE:GREGORIAN
BEGIN:VEVENT
UID:0dd51240-2ff6-11e9-b4ef-1247fd3c9286
DTSTAMP:20190214T015436Z
SUMMARY:Grade 4 ELA MCAS
URL;VALUE=URI:https://www.norwood.k12.ma.us/cleveland/calendar/1944619/grad
 e-4-ela-mcas
DTSTART:20190404T130000Z
DTEND:20190404T185000Z
END:VEVENT
END:VCALENDAR
