BEGIN:VCALENDAR
VERSION:2.0
PRODID:SchoolNow
CALSCALE:GREGORIAN
BEGIN:VEVENT
UID:5c4ae42c-2ff6-11e9-91bf-12f0d6e75484
DTSTAMP:20190214T015517Z
SUMMARY:Grade 5 ELA MCAS
URL;VALUE=URI:https://www.norwood.k12.ma.us/cleveland/calendar/1944620/grad
 e-5-ela-mcas
DTSTART:20190409T130000Z
DTEND:20190409T185000Z
END:VEVENT
END:VCALENDAR
