BEGIN:VCALENDAR
VERSION:2.0
PRODID:SchoolNow
CALSCALE:GREGORIAN
BEGIN:VEVENT
UID:19e1ce38-2ff7-11e9-8fe8-12b548e14608
DTSTAMP:20190214T015649Z
SUMMARY:Grade 5 ELA MCAS
URL;VALUE=URI:https://www.norwood.k12.ma.us/cleveland/calendar/1944621/grad
 e-5-ela-mcas
DTSTART:20190410T130000Z
DTEND:20190410T185000Z
END:VEVENT
END:VCALENDAR
