BEGIN:VCALENDAR
VERSION:2.0
PRODID:SchoolNow
CALSCALE:GREGORIAN
BEGIN:VEVENT
UID:860472aa-2ff7-11e9-a33f-0a4b0b5ca8be
DTSTAMP:20190214T015747Z
SUMMARY:Grade 3 ELA MCAS
URL;VALUE=URI:https://www.norwood.k12.ma.us/cleveland/calendar/1944622/grad
 e-3-ela-mcas
DTSTART:20190424T130000Z
DTEND:20190424T185000Z
END:VEVENT
END:VCALENDAR
