BEGIN:VCALENDAR
VERSION:2.0
PRODID:SchoolNow
CALSCALE:GREGORIAN
BEGIN:VEVENT
UID:ef468d7a-2ff7-11e9-9768-121bbc63b5a8
DTSTAMP:20190214T015823Z
SUMMARY:Grade 3 ELA MCAS
URL;VALUE=URI:https://www.norwood.k12.ma.us/cleveland/calendar/1944623/grad
 e-3-ela-mcas
DTSTART:20190425T130000Z
DTEND:20190425T185000Z
END:VEVENT
END:VCALENDAR
