BEGIN:VCALENDAR
VERSION:2.0
PRODID:SchoolNow
CALSCALE:GREGORIAN
BEGIN:VEVENT
UID:4685c9e8-2ff8-11e9-a45a-0ae2fcaa8f88
DTSTAMP:20190214T015919Z
SUMMARY:Grade 4 Math MCAS
URL;VALUE=URI:https://www.norwood.k12.ma.us/cleveland/calendar/1944624/grad
 e-4-math-mcas
DTSTART:20190430T130000Z
DTEND:20190430T185000Z
END:VEVENT
END:VCALENDAR
