BEGIN:VCALENDAR
VERSION:2.0
PRODID:SchoolNow
CALSCALE:GREGORIAN
BEGIN:VEVENT
UID:c0362bd8-2ff9-11e9-b1db-12625c3d6030
DTSTAMP:20190214T020004Z
SUMMARY:Grade 4 Math MCAS
URL;VALUE=URI:https://www.norwood.k12.ma.us/cleveland/calendar/1944625/grad
 e-4-math-mcas
DTSTART:20190501T130000Z
DTEND:20190501T185000Z
END:VEVENT
END:VCALENDAR
