BEGIN:VCALENDAR
VERSION:2.0
PRODID:SchoolNow
CALSCALE:GREGORIAN
BEGIN:VEVENT
UID:07bd9ca2-2ffa-11e9-82c7-0ae2fcaa8f88
DTSTAMP:20190214T020043Z
SUMMARY:Grade 5 Math MCAS
URL;VALUE=URI:https://www.norwood.k12.ma.us/cleveland/calendar/1944626/grad
 e-5-math-mcas
DTSTART:20190507T130000Z
DTEND:20190507T185000Z
END:VEVENT
END:VCALENDAR
