BEGIN:VCALENDAR
VERSION:2.0
PRODID:SchoolNow
CALSCALE:GREGORIAN
BEGIN:VEVENT
UID:44c33080-2ffa-11e9-9398-12625c3d6030
DTSTAMP:20190214T020113Z
SUMMARY:Grade 5 Math MCAS
URL;VALUE=URI:https://www.norwood.k12.ma.us/cleveland/calendar/1944627/grad
 e-5-math-mcas
DTSTART:20190509T130000Z
DTEND:20190509T185000Z
END:VEVENT
END:VCALENDAR
