BEGIN:VCALENDAR
VERSION:2.0
PRODID:SchoolNow
CALSCALE:GREGORIAN
BEGIN:VEVENT
UID:ad105cc6-2ffa-11e9-b833-0a60ad58c6be
DTSTAMP:20190214T020147Z
SUMMARY:Grade 5 Sci/Tech MCAS
URL;VALUE=URI:https://www.norwood.k12.ma.us/cleveland/calendar/1944628/grad
 e-5-sci-tech-mcas
DTSTART:20190515T130000Z
DTEND:20190515T185000Z
END:VEVENT
END:VCALENDAR
