BEGIN:VCALENDAR
VERSION:2.0
PRODID:SchoolNow
CALSCALE:GREGORIAN
BEGIN:VEVENT
UID:2acd3968-2ffb-11e9-92b9-121bbc63b5a8
DTSTAMP:20190214T020349Z
SUMMARY:Grade 3 Math MCAS
URL;VALUE=URI:https://www.norwood.k12.ma.us/cleveland/calendar/1944630/grad
 e-3-math-mcas
DTSTART:20190521T130000Z
DTEND:20190521T185000Z
END:VEVENT
END:VCALENDAR
