BEGIN:VCALENDAR
VERSION:2.0
PRODID:SchoolNow
CALSCALE:GREGORIAN
BEGIN:VEVENT
UID:0beaf24a-2ffd-11e9-8ac9-125810119e18
DTSTAMP:20190214T020548Z
SUMMARY:Grade 3 Math MCAS
URL;VALUE=URI:https://www.norwood.k12.ma.us/cleveland/calendar/1944631/grad
 e-3-math-mcas
DTSTART:20190522T130000Z
DTEND:20190522T185000Z
END:VEVENT
END:VCALENDAR
