BEGIN:VCALENDAR
VERSION:2.0
PRODID:SchoolNow
CALSCALE:GREGORIAN
BEGIN:VEVENT
UID:94b2db36-2fff-11e9-bb16-1247fd3c9286
DTSTAMP:20190214T022356Z
SUMMARY:Read Across America!
URL;VALUE=URI:https://www.norwood.k12.ma.us/cleveland/calendar/1944632/read
 -across-america
DTSTART;VALUE=DATE:20190301
DTEND;VALUE=DATE:20190302
END:VEVENT
END:VCALENDAR
