BEGIN:VCALENDAR
VERSION:2.0
PRODID:SchoolNow
CALSCALE:GREGORIAN
BEGIN:VEVENT
UID:0ae13262-3000-11e9-bf65-12625c3d6030
DTSTAMP:20190214T022715Z
SUMMARY:Poem In Your Pocket Day
URL;VALUE=URI:https://www.norwood.k12.ma.us/cleveland/calendar/1944633/poem
 -in-your-pocket-day
DTSTART;VALUE=DATE:20190426
DTEND;VALUE=DATE:20190427
END:VEVENT
END:VCALENDAR
