BEGIN:VCALENDAR
VERSION:2.0
PRODID:SchoolNow
CALSCALE:GREGORIAN
BEGIN:VEVENT
UID:9a20234a-4395-11e9-8c3c-0ae05969dfba
DTSTAMP:20190311T003542Z
SUMMARY:Math and Science Night!
URL;VALUE=URI:https://www.norwood.k12.ma.us/cleveland/calendar/1953763/math
 -and-science-night
DTSTART:20190315T223000Z
DTEND:20190316T003000Z
END:VEVENT
END:VCALENDAR
