BEGIN:VCALENDAR
VERSION:2.0
PRODID:SchoolNow
CALSCALE:GREGORIAN
BEGIN:VEVENT
UID:d15132be-4395-11e9-acda-0ae05969dfba
DTSTAMP:20190311T003820Z
SUMMARY:Cleveland Cafe
URL;VALUE=URI:https://www.norwood.k12.ma.us/cleveland/calendar/1953764/clev
 eland-cafe
DTSTART:20190321T213000Z
DTEND:20190321T230000Z
END:VEVENT
END:VCALENDAR
