BEGIN:VCALENDAR
VERSION:2.0
PRODID:SchoolNow
CALSCALE:GREGORIAN
BEGIN:VEVENT
UID:3afdbe58-4396-11e9-8d97-12bafbbd0d16
DTSTAMP:20190311T004012Z
SUMMARY:PTA Meeting
URL;VALUE=URI:https://www.norwood.k12.ma.us/cleveland/calendar/1953765/pta-
 meeting
DTSTART:20190326T230000Z
DTEND:20190327T000000Z
END:VEVENT
END:VCALENDAR
