BEGIN:VCALENDAR
VERSION:2.0
PRODID:SchoolNow
CALSCALE:GREGORIAN
BEGIN:VEVENT
UID:45e211a6-4397-11e9-b175-0a4b4c9027ae
DTSTAMP:20190311T004740Z
SUMMARY:Jim Plunkett PTA Fundraiser
URL;VALUE=URI:https://www.norwood.k12.ma.us/cleveland/calendar/1953766/jim-
 plunkett-pta-fundraiser
DTSTART:20190330T000000Z
DTEND:20190330T030000Z
END:VEVENT
END:VCALENDAR
