BEGIN:VCALENDAR
VERSION:2.0
PRODID:SchoolNow
CALSCALE:GREGORIAN
BEGIN:VEVENT
UID:618eb912-6756-11e9-ac8b-1212c3c0f54a
DTSTAMP:20190425T123351Z
SUMMARY:Norwood Public Schools Fine Arts Department presents the 22nd Annua
 l Fine Arts Festival
LOCATION:NHS Gymnasium & Paul Alberta Performing Arts Center
URL;VALUE=URI:https://www.norwood.k12.ma.us/cleveland/calendar/1975404/norw
 ood-public-schools-fine-arts-department-presents-the-22nd-annual-fine-arts
 -festival
DTSTART:20190427T053200Z
DTEND:20190427T180000Z
END:VEVENT
END:VCALENDAR
