BEGIN:VCALENDAR
VERSION:2.0
PRODID:SchoolNow
CALSCALE:GREGORIAN
BEGIN:VEVENT
UID:c6e847c6-76d1-11e9-9b36-122ef83b52e0
DTSTAMP:20190515T052456Z
SUMMARY:Second Grade Field Trip/Zoo
URL;VALUE=URI:https://www.norwood.k12.ma.us/cleveland/calendar/1985791/seco
 nd-grade-field-trip-zoo
DTSTART:20190522T130000Z
DTEND:20190522T173000Z
END:VEVENT
END:VCALENDAR
