BEGIN:VCALENDAR
VERSION:2.0
PRODID:SchoolNow
CALSCALE:GREGORIAN
BEGIN:VEVENT
UID:251691ae-76d2-11e9-bc6f-122ef83b52e0
DTSTAMP:20190515T052734Z
SUMMARY:Drop Everything and Read!
URL;VALUE=URI:https://www.norwood.k12.ma.us/cleveland/calendar/1985792/drop
 -everything-and-read
DTSTART:20190612T140000Z
DTEND:20190612T143000Z
END:VEVENT
END:VCALENDAR
