BEGIN:VCALENDAR
VERSION:2.0
PRODID:SchoolNow
CALSCALE:GREGORIAN
BEGIN:VEVENT
UID:619238aa-7843-11e9-85c4-12782e7a8310
DTSTAMP:20190517T013040Z
SUMMARY:4th Grade Chuck A Duck
URL;VALUE=URI:https://www.norwood.k12.ma.us/cleveland/calendar/1987406/4th-
 grade-chuck-a-duck
DTSTART:20190603T171500Z
DTEND:20190603T184500Z
END:VEVENT
END:VCALENDAR
