BEGIN:VCALENDAR
VERSION:2.0
PRODID:SchoolNow
CALSCALE:GREGORIAN
BEGIN:VEVENT
UID:b9e1a162-7843-11e9-8c4d-12a1a508fba8
DTSTAMP:20190517T013308Z
SUMMARY:5th Grade Field Trip/Science Museum
URL;VALUE=URI:https://www.norwood.k12.ma.us/cleveland/calendar/1987407/5th-
 grade-field-trip-science-museum
DTSTART:20190603T130000Z
DTEND:20190603T180000Z
END:VEVENT
END:VCALENDAR
