BEGIN:VCALENDAR
VERSION:2.0
PRODID:SchoolNow
CALSCALE:GREGORIAN
BEGIN:VEVENT
UID:13ed4dbe-7844-11e9-bd18-126265fed898
DTSTAMP:20190517T013539Z
SUMMARY:First Grade Field Trip/Museum
URL;VALUE=URI:https://www.norwood.k12.ma.us/cleveland/calendar/1987408/firs
 t-grade-field-trip-museum
DTSTART:20190606T130000Z
DTEND:20190606T183000Z
END:VEVENT
END:VCALENDAR
