BEGIN:VCALENDAR
VERSION:2.0
PRODID:SchoolNow
CALSCALE:GREGORIAN
BEGIN:VEVENT
UID:4768d0b4-7844-11e9-b57c-125ef49a35f2
DTSTAMP:20190517T013706Z
SUMMARY:Grade 5 Townwide Field Day
URL;VALUE=URI:https://www.norwood.k12.ma.us/cleveland/calendar/1987409/grad
 e-5-townwide-field-day
DTSTART:20190607T130000Z
DTEND:20190607T183000Z
END:VEVENT
END:VCALENDAR
