BEGIN:VCALENDAR
VERSION:2.0
PRODID:SchoolNow
CALSCALE:GREGORIAN
BEGIN:VEVENT
UID:7baf8214-7844-11e9-9a92-125ef49a35f2
DTSTAMP:20190517T013833Z
SUMMARY:Fourth Grade Field Trip
URL;VALUE=URI:https://www.norwood.k12.ma.us/cleveland/calendar/1987410/four
 th-grade-field-trip
DTSTART:20190610T130000Z
DTEND:20190610T183000Z
END:VEVENT
END:VCALENDAR
