BEGIN:VCALENDAR
VERSION:2.0
PRODID:SchoolNow
CALSCALE:GREGORIAN
BEGIN:VEVENT
UID:a805317e-7844-11e9-8e5f-1276bc36bc72
DTSTAMP:20190517T013948Z
SUMMARY:Cleveland Field Day
URL;VALUE=URI:https://www.norwood.k12.ma.us/cleveland/calendar/1987411/clev
 eland-field-day
DTSTART:20190613T130000Z
DTEND:20190613T180000Z
END:VEVENT
END:VCALENDAR
