BEGIN:VCALENDAR
VERSION:2.0
PRODID:SchoolNow
CALSCALE:GREGORIAN
BEGIN:VEVENT
UID:d700a774-7844-11e9-b6fc-126265fed898
DTSTAMP:20190517T014107Z
SUMMARY:Third Grade Field Trip
URL;VALUE=URI:https://www.norwood.k12.ma.us/cleveland/calendar/1987412/thir
 d-grade-field-trip
DTSTART:20190614T130000Z
DTEND:20190614T183000Z
END:VEVENT
END:VCALENDAR
