BEGIN:VCALENDAR
VERSION:2.0
PRODID:SchoolNow
CALSCALE:GREGORIAN
BEGIN:VEVENT
UID:4a0f3ec4-7845-11e9-9aff-12782e7a8310
DTSTAMP:20190607T013023Z
SUMMARY:5th Grade Celebration
URL;VALUE=URI:https://www.norwood.k12.ma.us/cleveland/calendar/1987413/5th-
 grade-graduation
DTSTART:20190618T130000Z
DTEND:20190618T184500Z
END:VEVENT
END:VCALENDAR
