BEGIN:VCALENDAR
VERSION:2.0
PRODID:SchoolNow
CALSCALE:GREGORIAN
BEGIN:VEVENT
UID:bcf4d57e-81c9-11e9-bcdb-0ae1e0f24fe6
DTSTAMP:20190529T042507Z
SUMMARY:NHS Senior Clap Out!
URL;VALUE=URI:https://www.norwood.k12.ma.us/cleveland/calendar/1992559/nhs-
 senior-clap-out
DTSTART:20190530T150000Z
DTEND:20190530T160000Z
END:VEVENT
END:VCALENDAR
