BEGIN:VCALENDAR
VERSION:2.0
PRODID:SchoolNow
CALSCALE:GREGORIAN
BEGIN:VEVENT
UID:8659809a-88c3-11e9-be87-12ff90cfaf82
DTSTAMP:20190607T012816Z
SUMMARY:5th Grade Battle of the Books
URL;VALUE=URI:https://www.norwood.k12.ma.us/cleveland/calendar/1999902/5th-
 grade-battle-of-the-books
DTSTART:20190614T173000Z
DTEND:20190614T183000Z
END:VEVENT
END:VCALENDAR
