BEGIN:VCALENDAR
VERSION:2.0
PRODID:SchoolNow
CALSCALE:GREGORIAN
BEGIN:VEVENT
UID:d3a7c6f4-a245-11e9-b727-0a6b3545c7dc
DTSTAMP:20190709T123359Z
SUMMARY:Convocation Teachers Return - Students not in session
URL;VALUE=URI:https://www.norwood.k12.ma.us/cleveland/calendar/2027122/conv
 ocation-teachers-return-students-not-in-session
DTSTART:20190903T123200Z
DTEND:20190903T133200Z
END:VEVENT
END:VCALENDAR
