BEGIN:VCALENDAR
VERSION:2.0
PRODID:SchoolNow
CALSCALE:GREGORIAN
BEGIN:VEVENT
UID:fb1b8004-a245-11e9-a67f-0a6b3545c7dc
DTSTAMP:20190709T123506Z
SUMMARY:Professional Development Day - Students not in session
URL;VALUE=URI:https://www.norwood.k12.ma.us/cleveland/calendar/2027131/prof
 essional-development-day-students-not-in-session
DTSTART:20190904T123400Z
DTEND:20190904T133400Z
END:VEVENT
END:VCALENDAR
