BEGIN:VCALENDAR
VERSION:2.0
PRODID:SchoolNow
CALSCALE:GREGORIAN
BEGIN:VEVENT
UID:8e8c9102-a246-11e9-bccd-0a6b3545c7dc
DTSTAMP:20190709T123913Z
SUMMARY:Professional Development Day - Students not in session
URL;VALUE=URI:https://www.norwood.k12.ma.us/cleveland/calendar/2027153/prof
 essional-development-day-students-not-in-session
DTSTART:20191003T123800Z
DTEND:20191003T133800Z
END:VEVENT
END:VCALENDAR
