BEGIN:VCALENDAR
VERSION:2.0
PRODID:SchoolNow
CALSCALE:GREGORIAN
BEGIN:VEVENT
UID:58069bde-a249-11e9-8097-0a6b3545c7dc
DTSTAMP:20190709T125910Z
SUMMARY:Columbus Day - Schools Closed
URL;VALUE=URI:https://www.norwood.k12.ma.us/cleveland/calendar/2027162/colu
 mbus-day-schools-closed
DTSTART:20191014T125800Z
DTEND:20191014T135800Z
END:VEVENT
END:VCALENDAR
