BEGIN:VCALENDAR
VERSION:2.0
PRODID:SchoolNow
CALSCALE:GREGORIAN
BEGIN:VEVENT
UID:3b6fa46a-a24a-11e9-9e77-0a6b3545c7dc
DTSTAMP:20190709T130531Z
SUMMARY:Thanksgiving Recess - Schools close at noon
URL;VALUE=URI:https://www.norwood.k12.ma.us/cleveland/calendar/2027198/than
 ksgiving-recess-schools-close-at-noon
DTSTART:20191127T140400Z
DTEND:20191127T150400Z
END:VEVENT
END:VCALENDAR
