BEGIN:VCALENDAR
VERSION:2.0
PRODID:SchoolNow
CALSCALE:GREGORIAN
BEGIN:VEVENT
UID:5e291be4-a24a-11e9-b3aa-0a6b3545c7dc
DTSTAMP:20190709T184509Z
SUMMARY:Thanksgiving Recess - Schools Closed Nov 28-Nov 29
URL;VALUE=URI:https://www.norwood.k12.ma.us/cleveland/calendar/2027207/than
 ksgiving-recess-schools-closed
DTSTART:20191128T140500Z
DTEND:20191129T150500Z
END:VEVENT
END:VCALENDAR
