BEGIN:VCALENDAR
VERSION:2.0
PRODID:SchoolNow
CALSCALE:GREGORIAN
BEGIN:VEVENT
UID:10551778-a24b-11e9-aa80-0a6b3545c7dc
DTSTAMP:20190709T185042Z
SUMMARY:Professional Development Day - 1/2 day - AM Session Only
URL;VALUE=URI:https://www.norwood.k12.ma.us/cleveland/calendar/2027234/prof
 essional-development-day-1-2-day-am-session-only
DTSTART:20191210T141000Z
DTEND:20191210T151000Z
END:VEVENT
END:VCALENDAR
