BEGIN:VCALENDAR
VERSION:2.0
PRODID:SchoolNow
CALSCALE:GREGORIAN
BEGIN:VEVENT
UID:b5d6adc8-a274-11e9-a9c6-0a5ac1c96804
DTSTAMP:20190709T180936Z
SUMMARY:Schools Reopen
URL;VALUE=URI:https://www.norwood.k12.ma.us/cleveland/calendar/2027409/scho
 ols-reopen
DTSTART:20200102T190800Z
DTEND:20200102T200800Z
END:VEVENT
END:VCALENDAR
