BEGIN:VCALENDAR
VERSION:2.0
PRODID:SchoolNow
CALSCALE:GREGORIAN
BEGIN:VEVENT
UID:f4cdba80-a274-11e9-ab82-0a5ac1c96804
DTSTAMP:20190709T181121Z
SUMMARY:Martin Luther King Day - Schools Closed
URL;VALUE=URI:https://www.norwood.k12.ma.us/cleveland/calendar/2027418/mart
 in-luther-kind-day-schools-closed
DTSTART:20200120T191000Z
DTEND:20200120T201000Z
END:VEVENT
END:VCALENDAR
