BEGIN:VCALENDAR
VERSION:2.0
PRODID:SchoolNow
CALSCALE:GREGORIAN
BEGIN:VEVENT
UID:26e8d672-c957-11e9-8dbc-1223e00d1086
DTSTAMP:20190828T054616Z
SUMMARY:First Grade/New Student Orientation
URL;VALUE=URI:https://www.norwood.k12.ma.us/cleveland/calendar/2076132/firs
 t-grade-new-student-orientation
DTSTART:20190903T180000Z
DTEND:20190903T190000Z
END:VEVENT
END:VCALENDAR
