BEGIN:VCALENDAR
VERSION:2.0
PRODID:SchoolNow
CALSCALE:GREGORIAN
BEGIN:VEVENT
UID:117dbf72-c958-11e9-9f55-1223e00d1086
DTSTAMP:20190908T222420Z
SUMMARY:International Dot Day!
URL;VALUE=URI:https://www.norwood.k12.ma.us/cleveland/calendar/2076133/inte
 rnational-dot-day
DTSTART:20190913T130000Z
DTEND:20190913T190000Z
END:VEVENT
END:VCALENDAR
